BEGIN:VCALENDAR
VERSION:2.0
PRODID:-//Visionary Family Ministries - ECPv6.15.20//NONSGML v1.0//EN
CALSCALE:GREGORIAN
METHOD:PUBLISH
X-WR-CALNAME:Visionary Family Ministries
X-ORIGINAL-URL:https://visionaryfam.com
X-WR-CALDESC:Events for Visionary Family Ministries
REFRESH-INTERVAL;VALUE=DURATION:PT1H
X-Robots-Tag:noindex
X-PUBLISHED-TTL:PT1H
BEGIN:VTIMEZONE
TZID:America/Chicago
BEGIN:DAYLIGHT
TZOFFSETFROM:-0600
TZOFFSETTO:-0500
TZNAME:CDT
DTSTART:20250309T080000
END:DAYLIGHT
BEGIN:STANDARD
TZOFFSETFROM:-0500
TZOFFSETTO:-0600
TZNAME:CST
DTSTART:20251102T070000
END:STANDARD
BEGIN:DAYLIGHT
TZOFFSETFROM:-0600
TZOFFSETTO:-0500
TZNAME:CDT
DTSTART:20260308T080000
END:DAYLIGHT
BEGIN:STANDARD
TZOFFSETFROM:-0500
TZOFFSETTO:-0600
TZNAME:CST
DTSTART:20261101T070000
END:STANDARD
BEGIN:DAYLIGHT
TZOFFSETFROM:-0600
TZOFFSETTO:-0500
TZNAME:CDT
DTSTART:20270314T080000
END:DAYLIGHT
BEGIN:STANDARD
TZOFFSETFROM:-0500
TZOFFSETTO:-0600
TZNAME:CST
DTSTART:20271107T070000
END:STANDARD
END:VTIMEZONE
BEGIN:VEVENT
DTSTART;TZID=America/Chicago:20260110T090000
DTEND;TZID=America/Chicago:20260110T150000
DTSTAMP:20260422T041909
CREATED:20251113T021353Z
LAST-MODIFIED:20260102T171309Z
UID:10000124-1768035600-1768057200@visionaryfam.com
SUMMARY:Never Too Late\, James Island Christian Church\, Charleston\, SC
DESCRIPTION:What to Expect\n\n$20 per person\nRefreshments and on-site lunch provided\n\nEncouraging Faith in Your Adult Child\nJoin Dr. Rob Rienow of Visionary Family Ministries for the Never Too Late Conference. A unique conference for parents of adult children. \n\nDiscover practical ways to build stronger relationships with your adult kids/older teens\nDevelop new approaches for spiritual conversations\nExplore dynamic prayer strategies\nCatch a renewed vision for impacting the generations of your family for Christ
URL:https://visionaryfam.com/event/never-too-late-james-island-christian-church-charleston-sc/
LOCATION:James Island Christian Church\, 12 Sawgrass Rd\, Charleston\, SC\, 29412\, United States
CATEGORIES:Never Too Late
ATTACH;FMTTYPE=image/png:https://visionaryfam.com/wp-content/uploads/2025/11/Never-Too-Late-2026-1-Event-Cover-1.png
ORGANIZER;CN="Visionary Family Ministries":MAILTO:events@visionaryfam.com
GEO:32.7579351;-79.9757456
X-APPLE-STRUCTURED-LOCATION;VALUE=URI;X-ADDRESS=James Island Christian Church 12 Sawgrass Rd Charleston SC 29412 United States;X-APPLE-RADIUS=500;X-TITLE=12 Sawgrass Rd:geo:-79.9757456,32.7579351
END:VEVENT
END:VCALENDAR